BEGIN:VCALENDAR
VERSION:2.0
PRODID:Imitheme.com 
BEGIN:VEVENT
UID:20260424T1631161048434022
DTSTAMP;TZID=UTC:20260424T163116
DTSTART;TZID=UTC:20260424T163100
DTEND;TZID=UTC:20260424T163100
SUMMARY:3rd Sunday after Feast of Assumption
LOCATION:
DESCRIPTION:3rd Sunday after Feast of Assumption Holy Qurbana (Evening)
END:VEVENT
END:VCALENDAR
