BEGIN:VCALENDAR
VERSION:2.0
PRODID:Imitheme.com 
BEGIN:VEVENT
UID:20260424T2054001300107263
DTSTAMP;TZID=UTC:20260424T205400
DTSTART;TZID=UTC:20260424T205400
DTEND;TZID=UTC:20260424T205400
SUMMARY:Annunciation to St. Mary
LOCATION:
DESCRIPTION:Annunciation to St. Mary
END:VEVENT
END:VCALENDAR
