BEGIN:VCALENDAR
VERSION:2.0
PRODID:Imitheme.com 
BEGIN:VEVENT
UID:20260424T082123681033434
DTSTAMP;TZID=UTC:20260424T082123
DTSTART;TZID=UTC:20260422T082100
DTEND;TZID=UTC:20260422T082100
SUMMARY:World Blood Donor Day
LOCATION:
DESCRIPTION:World Blood Donor Day Swarna Velliyaazhcha ( Golden Friday) Holy Qurbana (Morning) &nbsp\;
END:VEVENT
END:VCALENDAR
