BEGIN:VCALENDAR
VERSION:2.0
PRODID:Imitheme.com 
BEGIN:VEVENT
UID:20260421T095256477078233
DTSTAMP;TZID=UTC:20260421T095256
DTSTART;TZID=UTC:20260421T095200
DTEND;TZID=UTC:20260421T095200
SUMMARY:Merry Christmas
LOCATION:
DESCRIPTION:Merry Christmas
END:VEVENT
END:VCALENDAR
