BEGIN:VCALENDAR
VERSION:2.0
PRODID:Imitheme.com 
BEGIN:VEVENT
UID:20260421T094623854511138
DTSTAMP;TZID=UTC:20260421T094623
DTSTART;TZID=UTC:20260421T094600
DTEND;TZID=UTC:20260421T094600
SUMMARY:90th Memorial of H.H Baselios Geevarghese I ( Vakathanam Vallikkattu Dayara)
LOCATION:
DESCRIPTION:90th Memorial of H.H Baselios Geevarghese I ( Vakathanam Vallikkattu Dayara) Bahrain National Day
END:VEVENT
END:VCALENDAR
