BEGIN:VCALENDAR
VERSION:2.0
PRODID:Imitheme.com 
BEGIN:VEVENT
UID:20260421T095211333167094
DTSTAMP;TZID=UTC:20260421T095211
DTSTART;TZID=UTC:20260421T095200
DTEND;TZID=UTC:20260421T095200
SUMMARY:Holy Qurbana (Morning)
LOCATION:
DESCRIPTION:Holy Qurbana (Morning)
END:VEVENT
END:VCALENDAR
